BEGIN:VCALENDAR
VERSION:2.0
PRODID:-//hacksw/handcal//NONSGML v1.0//EN
CALSCALE:GREGORIAN
BEGIN:VEVENT
LOCATION:Barcelona
DESCRIPTION:
DTSTART:20171020T170000Z
DTEND:20171020T170000Z
SUMMARY:8a Sessió de l'Ecumenòpolis amb Celia Marin
URL;VALUE=URI:https://arquitectes.cat/ca/content/8a-sessi%C3%B3-de-lecumen%C3%B2polis-amb-celia-marin
DTSTAMP:20260419T195618Z
UID:69e5174293820
END:VEVENT
END:VCALENDAR