BEGIN:VCALENDAR
VERSION:2.0
PRODID:-//hacksw/handcal//NONSGML v1.0//EN
CALSCALE:GREGORIAN
BEGIN:VEVENT
LOCATION:Barcelona
DESCRIPTION:
DTSTART:20171018T080000Z
DTEND:20171115T180000Z
SUMMARY:"Com una cadira". Una exposició dirigida per Jordi Lafon i Adicciones porquesí
URL;VALUE=URI:https://arquitectes.cat/ca/content/com-una-cadira-una-exposici%C3%B3-dirigida-jordi-lafon-i-adicciones-porques%C3%AD
DTSTAMP:20260422T120357Z
UID:69e89d0d6c686
END:VEVENT
END:VCALENDAR