BEGIN:VCALENDAR
VERSION:2.0
PRODID:-//hacksw/handcal//NONSGML v1.0//EN
CALSCALE:GREGORIAN
BEGIN:VEVENT
LOCATION:Barcelona
DESCRIPTION:
DTSTART:20171011T170000Z
DTEND:20171011T170000Z
SUMMARY:"L’art com a pràctica i l’art com a discurs". Daniel Steegmann i Pedro Azara
URL;VALUE=URI:https://arquitectes.cat/ca/content/l%E2%80%99art-com-pr%C3%A0ctica-i-l%E2%80%99art-com-discurs-daniel-steegmann-i-pedro-azara
DTSTAMP:20260423T090828Z
UID:69e9c56c9a76e
END:VEVENT
END:VCALENDAR