BEGIN:VCALENDAR
VERSION:2.0
PRODID:-//hacksw/handcal//NONSGML v1.0//EN
CALSCALE:GREGORIAN
BEGIN:VEVENT
LOCATION:Barcelona
DESCRIPTION:
DTSTART:20171017T170000Z
DTEND:20171024T190000Z
SUMMARY:L'actualitat del passat. Curs d'introducció als estudis de memòria
URL;VALUE=URI:https://arquitectes.cat/ca/content/lactualitat-del-passat-curs-dintroducci%C3%B3-als-estudis-de-mem%C3%B2ria
DTSTAMP:20260419T235510Z
UID:69e54f3e717bd
END:VEVENT
END:VCALENDAR