BEGIN:VCALENDAR
VERSION:2.0
PRODID:-//hacksw/handcal//NONSGML v1.0//EN
CALSCALE:GREGORIAN
BEGIN:VEVENT
LOCATION:Barcelona
DESCRIPTION:
DTSTART:20171018T170000Z
DTEND:20171018T170000Z
SUMMARY:Presentación del libro "The Building"
URL;VALUE=URI:https://arquitectes.cat/ca/node/27959
DTSTAMP:20260426T033925Z
UID:69ed6ccd0688d
END:VEVENT
END:VCALENDAR