BEGIN:VCALENDAR
VERSION:2.0
PRODID:-//hacksw/handcal//NONSGML v1.0//EN
CALSCALE:GREGORIAN
BEGIN:VEVENT
LOCATION:Vic
DESCRIPTION:
DTSTART:20171010T170000Z
DTEND:20171010T170000Z
SUMMARY:REPROGRAMADO - Jornada sobre las cooperativas de viviendas
URL;VALUE=URI:https://arquitectes.cat/ca/node/27947
DTSTAMP:20260424T094215Z
UID:69eb1ed7426f3
END:VEVENT
END:VCALENDAR