BEGIN:VCALENDAR
VERSION:2.0
PRODID:-//hacksw/handcal//NONSGML v1.0//EN
CALSCALE:GREGORIAN
BEGIN:VEVENT
LOCATION:Barcelona
DESCRIPTION:
DTSTART:20171007T090000Z
DTEND:20171007T090000Z
SUMMARY:Guided tour to the Casa Bloc
URL;VALUE=URI:https://arquitectes.cat/ca/node/27917
DTSTAMP:20260420T055932Z
UID:69e5a4a42b989
END:VEVENT
END:VCALENDAR