BEGIN:VCALENDAR
VERSION:2.0
PRODID:-//hacksw/handcal//NONSGML v1.0//EN
CALSCALE:GREGORIAN
BEGIN:VEVENT
LOCATION:Barcelona
DESCRIPTION:
DTSTART:20171018T170000Z
DTEND:20171018T170000Z
SUMMARY:Terratourism\, 2a projecció del nou cicle de curtmetratges 'Arquitectura en Curt'
URL;VALUE=URI:https://arquitectes.cat/ca/content/terratourism-2a-projecci%C3%B3-del-nou-cicle-de-curtmetratges-arquitectura-en-curt
DTSTAMP:20260420T034109Z
UID:69e58435cee5d
END:VEVENT
END:VCALENDAR