BEGIN:VCALENDAR
VERSION:2.0
PRODID:-//hacksw/handcal//NONSGML v1.0//EN
CALSCALE:GREGORIAN
BEGIN:VEVENT
LOCATION:Barcelona
DESCRIPTION:
DTSTART:20171214T070000Z
DTEND:20171217T180000Z
SUMMARY:XL Curset de l'AADIPA: "Aprendre del passat\, repensar el futur"
URL;VALUE=URI:https://arquitectes.cat/ca/content/xl-curset-de-laadipa-aprendre-del-passat-repensar-el-futur
DTSTAMP:20260419T151019Z
UID:69e4d43b86536
END:VEVENT
END:VCALENDAR