BEGIN:VCALENDAR
VERSION:2.0
PRODID:-//hacksw/handcal//NONSGML v1.0//EN
CALSCALE:GREGORIAN
BEGIN:VEVENT
LOCATION:
DESCRIPTION:
DTSTART:20171005T160000Z
DTEND:20171007T120000Z
SUMMARY:Tallers infantils de construcció col·lectiva
URL;VALUE=URI:https://arquitectes.cat/ca/content/tallers-infantils-de-construcci%C3%B3-col%C2%B7lectiva
DTSTAMP:20260423T175830Z
UID:69ea41a6a284a
END:VEVENT
END:VCALENDAR