BEGIN:VCALENDAR
VERSION:2.0
PRODID:-//hacksw/handcal//NONSGML v1.0//EN
CALSCALE:GREGORIAN
BEGIN:VEVENT
LOCATION:Barcelona
DESCRIPTION:
DTSTART:20171125T080000Z
DTEND:20171125T080000Z
SUMMARY:Pedalada Olímpica
URL;VALUE=URI:https://arquitectes.cat/ca/node/27828
DTSTAMP:20260423T015342Z
UID:69e95f860be02
END:VEVENT
END:VCALENDAR