BEGIN:VCALENDAR
VERSION:2.0
PRODID:-//hacksw/handcal//NONSGML v1.0//EN
CALSCALE:GREGORIAN
BEGIN:VEVENT
LOCATION:Barcelona
DESCRIPTION:
DTSTART:20171002T160000Z
DTEND:20171007T140000Z
SUMMARY:Arquinset 2017: "BCN'92\, 25 años después"
URL;VALUE=URI:https://arquitectes.cat/ca/node/27823
DTSTAMP:20260419T170402Z
UID:69e4eee297272
END:VEVENT
END:VCALENDAR