BEGIN:VCALENDAR
VERSION:2.0
PRODID:-//hacksw/handcal//NONSGML v1.0//EN
CALSCALE:GREGORIAN
BEGIN:VEVENT
LOCATION:Barcelona
DESCRIPTION:
DTSTART:20171004T170000Z
DTEND:20171004T170000Z
SUMMARY:Debat Arquinset'17: "The Making-off V-40: el disseny que va veure el món"
URL;VALUE=URI:https://arquitectes.cat/ca/content/debat-arquinset17-making-v-40-el-disseny-que-va-veure-el-m%C3%B3n
DTSTAMP:20260422T053121Z
UID:69e8410982061
END:VEVENT
END:VCALENDAR