BEGIN:VCALENDAR
VERSION:2.0
PRODID:-//hacksw/handcal//NONSGML v1.0//EN
CALSCALE:GREGORIAN
BEGIN:VEVENT
LOCATION:Barcelona
DESCRIPTION:
DTSTART:20170926T063000Z
DTEND:20170926T063000Z
SUMMARY:Taula rodona 'Espais únics'. 2a sessió del cicle 'Esmorzars d'interiorisme'
URL;VALUE=URI:https://arquitectes.cat/ca/content/taula-rodona-espais-%C3%BAnics-2a-sessi%C3%B3-del-cicle-esmorzars-dinteriorisme
DTSTAMP:20260419T215510Z
UID:69e5331e31141
END:VEVENT
END:VCALENDAR