BEGIN:VCALENDAR
VERSION:2.0
PRODID:-//hacksw/handcal//NONSGML v1.0//EN
CALSCALE:GREGORIAN
BEGIN:VEVENT
LOCATION:Barcelona
DESCRIPTION:
DTSTART:20170917T090000Z
DTEND:20170917T090000Z
SUMMARY:Itinerari "La Barcelona del GATCPAC"
URL;VALUE=URI:https://arquitectes.cat/ca/content/itinerari-la-barcelona-del-gatcpac-4
DTSTAMP:20260419T230207Z
UID:69e542cfe22ab
END:VEVENT
END:VCALENDAR