BEGIN:VCALENDAR
VERSION:2.0
PRODID:-//hacksw/handcal//NONSGML v1.0//EN
CALSCALE:GREGORIAN
BEGIN:VEVENT
LOCATION:Barcelona
DESCRIPTION:
DTSTART:20171015T090000Z
DTEND:20171015T090000Z
SUMMARY:Itinerario "La Barcelona del GATCPAC"
URL;VALUE=URI:https://arquitectes.cat/ca/node/27756
DTSTAMP:20260419T205004Z
UID:69e523dce9d25
END:VEVENT
END:VCALENDAR