BEGIN:VCALENDAR
VERSION:2.0
PRODID:-//hacksw/handcal//NONSGML v1.0//EN
CALSCALE:GREGORIAN
BEGIN:VEVENT
LOCATION:Barcelona
DESCRIPTION:
DTSTART:20170930T090000Z
DTEND:20170930T090000Z
SUMMARY:Visita guiada a la Casa Bloc
URL;VALUE=URI:https://arquitectes.cat/ca/content/visita-guiada-la-casa-bloc-16
DTSTAMP:20260423T071111Z
UID:69e9a9efc10cb
END:VEVENT
END:VCALENDAR