BEGIN:VCALENDAR
VERSION:2.0
PRODID:-//hacksw/handcal//NONSGML v1.0//EN
CALSCALE:GREGORIAN
BEGIN:VEVENT
LOCATION:Olot
DESCRIPTION:
DTSTART:20170902T100000Z
DTEND:20180114T170000Z
SUMMARY:Exposició: "Al taller de Josep Clarà. Els guixos d'un escultor irrepetible"
URL;VALUE=URI:https://arquitectes.cat/ca/content/exposici%C3%B3-al-taller-de-josep-clar%C3%A0-els-guixos-dun-escultor-irrepetible
DTSTAMP:20260419T145603Z
UID:69e4d0e38969f
END:VEVENT
END:VCALENDAR