BEGIN:VCALENDAR
VERSION:2.0
PRODID:-//hacksw/handcal//NONSGML v1.0//EN
CALSCALE:GREGORIAN
BEGIN:VEVENT
LOCATION:Olot
DESCRIPTION:
DTSTART:20171111T160000Z
DTEND:20171111T214500Z
SUMMARY:Festival Lluèrnia. Activitat cancel·lada
URL;VALUE=URI:https://arquitectes.cat/ca/content/festival-llu%C3%A8rnia-activitat-cancel%C2%B7lada
DTSTAMP:20260419T150731Z
UID:69e4d39361f92
END:VEVENT
END:VCALENDAR