BEGIN:VCALENDAR
VERSION:2.0
PRODID:-//hacksw/handcal//NONSGML v1.0//EN
CALSCALE:GREGORIAN
BEGIN:VEVENT
LOCATION:Lleida
DESCRIPTION:
DTSTART:20170902T110000Z
DTEND:20180218T183000Z
SUMMARY:Exposició: "Guinovart. Cos\, percepció i resistència"
URL;VALUE=URI:https://arquitectes.cat/ca/content/exposici%C3%B3-guinovart-cos-percepci%C3%B3-i-resist%C3%A8ncia
DTSTAMP:20260419T174303Z
UID:69e4f8073e547
END:VEVENT
END:VCALENDAR