BEGIN:VCALENDAR
VERSION:2.0
PRODID:-//hacksw/handcal//NONSGML v1.0//EN
CALSCALE:GREGORIAN
BEGIN:VEVENT
LOCATION:Tarragona
DESCRIPTION:
DTSTART:20170831T220000Z
DTEND:20171203T220000Z
SUMMARY:"Aberturas"\, fotografías de Dolors Ayxendri
URL;VALUE=URI:https://arquitectes.cat/ca/node/27698
DTSTAMP:20260423T070801Z
UID:69e9a9310c231
END:VEVENT
END:VCALENDAR