BEGIN:VCALENDAR
VERSION:2.0
PRODID:-//hacksw/handcal//NONSGML v1.0//EN
CALSCALE:GREGORIAN
BEGIN:VEVENT
LOCATION:Olot
DESCRIPTION:
DTSTART:20170804T173000Z
DTEND:20170804T173000Z
SUMMARY:Josep Maria Mallarach a RCR Bunka: El vacío en la naturaleza
URL;VALUE=URI:https://arquitectes.cat/ca/content/josep-maria-mallarach-rcr-bunka-el-vac%C3%ADo-en-la-naturaleza
DTSTAMP:20260420T002505Z
UID:69e556417786c
END:VEVENT
END:VCALENDAR