BEGIN:VCALENDAR
VERSION:2.0
PRODID:-//hacksw/handcal//NONSGML v1.0//EN
CALSCALE:GREGORIAN
BEGIN:VEVENT
LOCATION:Barcelona
DESCRIPTION:
DTSTART:20170903T103000Z
DTEND:20170903T103000Z
SUMMARY:Visita guiada al edificio de la Fundación Joan Miró
URL;VALUE=URI:https://arquitectes.cat/ca/node/27584
DTSTAMP:20260419T230423Z
UID:69e5435710329
END:VEVENT
END:VCALENDAR