BEGIN:VCALENDAR
VERSION:2.0
PRODID:-//hacksw/handcal//NONSGML v1.0//EN
CALSCALE:GREGORIAN
BEGIN:VEVENT
LOCATION:
DESCRIPTION:
DTSTART:20170720T170000Z
DTEND:20170827T200000Z
SUMMARY:Exposició "Vers una tradició viva. José Antonio Coderch" a Espolla
URL;VALUE=URI:https://arquitectes.cat/ca/content/exposici%C3%B3-vers-una-tradici%C3%B3-viva-jos%C3%A9-antonio-coderch-espolla
DTSTAMP:20260422T122401Z
UID:69e8a1c17aeda
END:VEVENT
END:VCALENDAR