BEGIN:VCALENDAR
VERSION:2.0
PRODID:-//hacksw/handcal//NONSGML v1.0//EN
CALSCALE:GREGORIAN
BEGIN:VEVENT
LOCATION:Olot
DESCRIPTION:
DTSTART:20170708T083000Z
DTEND:20170708T083000Z
SUMMARY:Visita “Conoce el casco antiguo' recorrido por el casco antiguo de Olot
URL;VALUE=URI:https://arquitectes.cat/ca/node/27557
DTSTAMP:20260419T164220Z
UID:69e4e9cc82126
END:VEVENT
END:VCALENDAR