BEGIN:VCALENDAR
VERSION:2.0
PRODID:-//hacksw/handcal//NONSGML v1.0//EN
CALSCALE:GREGORIAN
BEGIN:VEVENT
LOCATION:Figueres
DESCRIPTION:
DTSTART:20170706T170000Z
DTEND:20170706T170000Z
SUMMARY:Síntesis Arquitectòniques a Figueres: "Detalles en la obra de J.A. Coderch" d'Isabela de Renteria
URL;VALUE=URI:https://arquitectes.cat/ca/content/s%C3%ADntesis-arquitect%C3%B2niques-figueres-detalles-en-la-obra-de-ja-coderch-disabela-de-renteria
DTSTAMP:20260419T190621Z
UID:69e50b8d8c801
END:VEVENT
END:VCALENDAR