BEGIN:VCALENDAR
VERSION:2.0
PRODID:-//hacksw/handcal//NONSGML v1.0//EN
CALSCALE:GREGORIAN
BEGIN:VEVENT
LOCATION:Barcelona
DESCRIPTION:
DTSTART:20170628T170000Z
DTEND:20170628T170000Z
SUMMARY:Sessió informativa sobre els ajuts a la rehabilitació energètica i generació d'energia
URL;VALUE=URI:https://arquitectes.cat/ca/content/sessi%C3%B3-informativa-sobre-els-ajuts-la-rehabilitaci%C3%B3-energ%C3%A8tica-i-generaci%C3%B3-denergia
DTSTAMP:20260419T150905Z
UID:69e4d3f103ee3
END:VEVENT
END:VCALENDAR