BEGIN:VCALENDAR
VERSION:2.0
PRODID:-//hacksw/handcal//NONSGML v1.0//EN
CALSCALE:GREGORIAN
BEGIN:VEVENT
LOCATION:Barcelona
DESCRIPTION:
DTSTART:20170628T173000Z
DTEND:20170730T173000Z
SUMMARY:Living in Future Cities - IAAC Exhibition at MUHBA Oliva Artés
URL;VALUE=URI:https://arquitectes.cat/ca/node/27471
DTSTAMP:20260419T171007Z
UID:69e4f04f26c84
END:VEVENT
END:VCALENDAR