BEGIN:VCALENDAR
VERSION:2.0
PRODID:-//hacksw/handcal//NONSGML v1.0//EN
CALSCALE:GREGORIAN
BEGIN:VEVENT
LOCATION:Barcelona
DESCRIPTION:
DTSTART:20170627T173000Z
DTEND:20170627T173000Z
SUMMARY:FADfest'17. Conferència inaugural amb Michael Webb d'Archigram
URL;VALUE=URI:https://arquitectes.cat/ca/content/fadfest17-confer%C3%A8ncia-inaugural-amb-michael-webb-darchigram
DTSTAMP:20260422T211523Z
UID:69e91e4b923ae
END:VEVENT
END:VCALENDAR