BEGIN:VCALENDAR
VERSION:2.0
PRODID:-//hacksw/handcal//NONSGML v1.0//EN
CALSCALE:GREGORIAN
BEGIN:VEVENT
LOCATION:
DESCRIPTION:
DTSTART:20170617T080000Z
DTEND:20170730T180000Z
SUMMARY:Exposición: "Ciudades Reconstruidas. Acción conjunta de Regiones Devastadas y COAC Ebre"
URL;VALUE=URI:https://arquitectes.cat/ca/node/27422
DTSTAMP:20260425T003223Z
UID:69ebef77ee581
END:VEVENT
END:VCALENDAR