BEGIN:VCALENDAR
VERSION:2.0
PRODID:-//hacksw/handcal//NONSGML v1.0//EN
CALSCALE:GREGORIAN
BEGIN:VEVENT
LOCATION:Barcelona
DESCRIPTION:
DTSTART:20170617T090000Z
DTEND:20170617T090000Z
SUMMARY:Guided tour to the 'Casa Bloc'
URL;VALUE=URI:https://arquitectes.cat/ca/node/27400
DTSTAMP:20260419T164620Z
UID:69e4eabc354d1
END:VEVENT
END:VCALENDAR