BEGIN:VCALENDAR
VERSION:2.0
PRODID:-//hacksw/handcal//NONSGML v1.0//EN
CALSCALE:GREGORIAN
BEGIN:VEVENT
LOCATION:Barcelona
DESCRIPTION:
DTSTART:20170614T163000Z
DTEND:20170614T163000Z
SUMMARY:Jornada: Renaturalizar la ciudad
URL;VALUE=URI:https://arquitectes.cat/ca/node/27372
DTSTAMP:20260422T045043Z
UID:69e83783e1d5a
END:VEVENT
END:VCALENDAR