BEGIN:VCALENDAR
VERSION:2.0
PRODID:-//hacksw/handcal//NONSGML v1.0//EN
CALSCALE:GREGORIAN
BEGIN:VEVENT
LOCATION:Barcelona
DESCRIPTION:
DTSTART:20170705T163000Z
DTEND:20170705T163000Z
SUMMARY:Conferencia: 'David Bowie is Cultural Icon'
URL;VALUE=URI:https://arquitectes.cat/ca/node/27370
DTSTAMP:20260419T155459Z
UID:69e4deb34480c
END:VEVENT
END:VCALENDAR