BEGIN:VCALENDAR
VERSION:2.0
PRODID:-//hacksw/handcal//NONSGML v1.0//EN
CALSCALE:GREGORIAN
BEGIN:VEVENT
LOCATION:Barcelona
DESCRIPTION:
DTSTART:20170615T160000Z
DTEND:20170615T160000Z
SUMMARY:Acte de lliurament del Premi Europeu d’Intervenció en el Patrimoni Arquitectònic AADIPA
URL;VALUE=URI:https://arquitectes.cat/ca/content/acte-de-lliurament-del-premi-europeu-d%E2%80%99intervenci%C3%B3-en-el-patrimoni-arquitect%C3%B2nic-aadipa
DTSTAMP:20260426T034621Z
UID:69ed6e6defc60
END:VEVENT
END:VCALENDAR