BEGIN:VCALENDAR
VERSION:2.0
PRODID:-//hacksw/handcal//NONSGML v1.0//EN
CALSCALE:GREGORIAN
BEGIN:VEVENT
LOCATION:Barcelona
DESCRIPTION:
DTSTART:20170627T083000Z
DTEND:20170702T183000Z
SUMMARY:FADfest'17 Festival de las Artes y del Diseño
URL;VALUE=URI:https://arquitectes.cat/ca/node/27294
DTSTAMP:20260419T200158Z
UID:69e51896cc768
END:VEVENT
END:VCALENDAR