BEGIN:VCALENDAR
VERSION:2.0
PRODID:-//hacksw/handcal//NONSGML v1.0//EN
CALSCALE:GREGORIAN
BEGIN:VEVENT
LOCATION:Barcelona
DESCRIPTION:
DTSTART:20170615T080000Z
DTEND:20170615T080000Z
SUMMARY:3a Biennal Internacional d'Intervenció en el Patrimoni Arquitectònic AADIPA
URL;VALUE=URI:https://arquitectes.cat/ca/content/3a-biennal-internacional-dintervenci%C3%B3-en-el-patrimoni-arquitect%C3%B2nic-aadipa
DTSTAMP:20260425T183024Z
UID:69ecec200821b
END:VEVENT
END:VCALENDAR