BEGIN:VCALENDAR
VERSION:2.0
PRODID:-//hacksw/handcal//NONSGML v1.0//EN
CALSCALE:GREGORIAN
BEGIN:VEVENT
LOCATION:Barcelona
DESCRIPTION:
DTSTART:20170628T170000Z
DTEND:20170628T170000Z
SUMMARY:FADfest’17. Conferència de l'arquitecte Johan Celsing
URL;VALUE=URI:https://arquitectes.cat/ca/content/fadfest%E2%80%9917-confer%C3%A8ncia-de-larquitecte-johan-celsing
DTSTAMP:20260425T142734Z
UID:69ecb33692a26
END:VEVENT
END:VCALENDAR