BEGIN:VCALENDAR
VERSION:2.0
PRODID:-//hacksw/handcal//NONSGML v1.0//EN
CALSCALE:GREGORIAN
BEGIN:VEVENT
LOCATION:Barcelona
DESCRIPTION:
DTSTART:20170626T070000Z
DTEND:20170721T150000Z
SUMMARY:Culturnautes 2017 - El casal d'estiu del CCCB
URL;VALUE=URI:https://arquitectes.cat/ca/content/culturnautes-2017-el-casal-destiu-del-cccb
DTSTAMP:20260419T230342Z
UID:69e5432ec834f
END:VEVENT
END:VCALENDAR