BEGIN:VCALENDAR
VERSION:2.0
PRODID:-//hacksw/handcal//NONSGML v1.0//EN
CALSCALE:GREGORIAN
BEGIN:VEVENT
LOCATION:Barcelona
DESCRIPTION:
DTSTART:20170526T170000Z
DTEND:20170526T170000Z
SUMMARY:#ajacINEXPERIÈNCIES: MESURA + unparelld’arquitectes + Andrea Caparrós
URL;VALUE=URI:https://arquitectes.cat/ca/content/ajacinexperi%C3%A8ncies-mesura-unparelld%E2%80%99arquitectes-andrea-caparr%C3%B3s
DTSTAMP:20260424T134831Z
UID:69eb588f29316
END:VEVENT
END:VCALENDAR