BEGIN:VCALENDAR
VERSION:2.0
PRODID:-//hacksw/handcal//NONSGML v1.0//EN
CALSCALE:GREGORIAN
BEGIN:VEVENT
LOCATION:Barcelona
DESCRIPTION:
DTSTART:20170522T073000Z
DTEND:20170615T170000Z
SUMMARY:Exposición: "México Arquitectura Contemporánea"
URL;VALUE=URI:https://arquitectes.cat/ca/node/27187
DTSTAMP:20260419T223551Z
UID:69e53ca7b9474
END:VEVENT
END:VCALENDAR