BEGIN:VCALENDAR
VERSION:2.0
PRODID:-//hacksw/handcal//NONSGML v1.0//EN
CALSCALE:GREGORIAN
BEGIN:VEVENT
LOCATION:Barcelona
DESCRIPTION:
DTSTART:20170525T170000Z
DTEND:20170525T170000Z
SUMMARY:Mesa redonda: "Fabricando el Futuro de la Construcción"
URL;VALUE=URI:https://arquitectes.cat/ca/node/27172
DTSTAMP:20260419T140453Z
UID:69e4c4e50aa1d
END:VEVENT
END:VCALENDAR