BEGIN:VCALENDAR
VERSION:2.0
PRODID:-//hacksw/handcal//NONSGML v1.0//EN
CALSCALE:GREGORIAN
BEGIN:VEVENT
LOCATION:Sant Cugat del Vallès
DESCRIPTION:
DTSTART:20170530T083000Z
DTEND:20170530T083000Z
SUMMARY:Conferència a càrrec de Xavier Vendrell: Rural Studio
URL;VALUE=URI:https://arquitectes.cat/ca/content/confer%C3%A8ncia-c%C3%A0rrec-de-xavier-vendrell-rural-studio
DTSTAMP:20260419T200045Z
UID:69e5184de0f5f
END:VEVENT
END:VCALENDAR