BEGIN:VCALENDAR
VERSION:2.0
PRODID:-//hacksw/handcal//NONSGML v1.0//EN
CALSCALE:GREGORIAN
BEGIN:VEVENT
LOCATION:Barcelona
DESCRIPTION:
DTSTART:20170519T080000Z
DTEND:20170528T180000Z
SUMMARY:Exhibition of the finalists in the new Vall d'Hebron bulding competition
URL;VALUE=URI:https://arquitectes.cat/ca/node/27129
DTSTAMP:20260426T033316Z
UID:69ed6b5c14cb9
END:VEVENT
END:VCALENDAR