BEGIN:VCALENDAR
VERSION:2.0
PRODID:-//hacksw/handcal//NONSGML v1.0//EN
CALSCALE:GREGORIAN
BEGIN:VEVENT
LOCATION:Barcelona
DESCRIPTION:
DTSTART:20170516T080000Z
DTEND:20170917T130000Z
SUMMARY:Exposició: "Cloe Masotta. D'un píxel un poema"
URL;VALUE=URI:https://arquitectes.cat/ca/content/exposici%C3%B3-cloe-masotta-dun-p%C3%ADxel-un-poema
DTSTAMP:20260419T170925Z
UID:69e4f025d9d37
END:VEVENT
END:VCALENDAR