BEGIN:VCALENDAR
VERSION:2.0
PRODID:-//hacksw/handcal//NONSGML v1.0//EN
CALSCALE:GREGORIAN
BEGIN:VEVENT
LOCATION:Vic
DESCRIPTION:
DTSTART:20170512T170000Z
DTEND:20170630T140000Z
SUMMARY:Exposición de Proyectos Finales de los Estudios Superiores de Diseño Gráfico
URL;VALUE=URI:https://arquitectes.cat/ca/node/27114
DTSTAMP:20260419T224418Z
UID:69e53ea26c7a3
END:VEVENT
END:VCALENDAR