BEGIN:VCALENDAR
VERSION:2.0
PRODID:-//hacksw/handcal//NONSGML v1.0//EN
CALSCALE:GREGORIAN
BEGIN:VEVENT
LOCATION:Barcelona
DESCRIPTION:
DTSTART:20170519T110000Z
DTEND:20170528T180000Z
SUMMARY:Exposició "Made in Europe". Contenidors Mies / Arquitectura als barris
URL;VALUE=URI:https://arquitectes.cat/ca/content/exposici%C3%B3-made-europe-contenidors-mies-arquitectura-als-barris
DTSTAMP:20260419T150329Z
UID:69e4d2a1e6f62
END:VEVENT
END:VCALENDAR