BEGIN:VCALENDAR
VERSION:2.0
PRODID:-//hacksw/handcal//NONSGML v1.0//EN
CALSCALE:GREGORIAN
BEGIN:VEVENT
LOCATION:Barcelona
DESCRIPTION:
DTSTART:20170608T173000Z
DTEND:20170608T173000Z
SUMMARY:Lecture by Winy Maas - MVRDV / The Why Factory
URL;VALUE=URI:https://arquitectes.cat/ca/node/27097
DTSTAMP:20260419T223831Z
UID:69e53d47823f8
END:VEVENT
END:VCALENDAR