BEGIN:VCALENDAR
VERSION:2.0
PRODID:-//hacksw/handcal//NONSGML v1.0//EN
CALSCALE:GREGORIAN
BEGIN:VEVENT
LOCATION:Barcelona
DESCRIPTION:
DTSTART:20170520T080000Z
DTEND:20170611T180000Z
SUMMARY:Exposició de l'EU Mies Award 2017 al Palau Victòria Eugènia
URL;VALUE=URI:https://arquitectes.cat/ca/content/exposici%C3%B3-de-leu-mies-award-2017-al-palau-vict%C3%B2ria-eug%C3%A8nia
DTSTAMP:20260420T055544Z
UID:69e5a3c0676b5
END:VEVENT
END:VCALENDAR