BEGIN:VCALENDAR
VERSION:2.0
PRODID:-//hacksw/handcal//NONSGML v1.0//EN
CALSCALE:GREGORIAN
BEGIN:VEVENT
LOCATION:Barcelona
DESCRIPTION:
DTSTART:20170520T083000Z
DTEND:20170520T083000Z
SUMMARY:Arquitectura y paisaje. Jornada familiar de arquitectura
URL;VALUE=URI:https://arquitectes.cat/ca/node/26962
DTSTAMP:20260422T174342Z
UID:69e8ecae245ae
END:VEVENT
END:VCALENDAR