BEGIN:VCALENDAR
VERSION:2.0
PRODID:-//hacksw/handcal//NONSGML v1.0//EN
CALSCALE:GREGORIAN
BEGIN:VEVENT
LOCATION:Barcelona
DESCRIPTION:
DTSTART:20170525T180000Z
DTEND:20170525T180000Z
SUMMARY:Projecció de "Los últimos días"
URL;VALUE=URI:https://arquitectes.cat/ca/content/projecci%C3%B3-de-los-%C3%BAltimos-d%C3%ADas
DTSTAMP:20260419T155519Z
UID:69e4dec7384b6
END:VEVENT
END:VCALENDAR